BEGIN:VCALENDAR
PRODID:NingEventWidget-v1
VERSION:2.0
METHOD:PUBLISH
BEGIN:VTIMEZONE
TZID:America/Anguilla
X-LIC-LOCATION:America/Anguilla
BEGIN:STANDARD
TZOFFSETFROM:-0400
TZOFFSETTO:-0400
TZNAME:AST
DTSTART:19700101T000000
END:STANDARD
END:VTIMEZONE
BEGIN:VEVENT
UID:6466865:Event:78693
DTSTAMP:20260421T203124Z
SUMMARY:50 STAR FIRE SHOW
DESCRIPTION:Take in breathtaking views illuminated by an incredible sh
 owcase of pyrotechnic artistry at Jersey City’s 50 STAR FIRESHOW t
 his July 4th at Exchange Place.\r\nMayor Steven M. Fulop and the Jerse
 y City Municipal Council are pleased to bring the community together t
 o celebrate liberty on the City’s beautiful waterfront.\r\n\r\n\r\n\
 r\n\r\n\r\n\r\n\r\n\r\n\r\n\r\n\r\nCome one, come all to the 50STAR K
 ids Carnival—located on the north side of Festival Grounds. Head on 
 over for games and rides the whole family can enjoy!\r\nTempt your tas
 te buds with sweets and treats right inside the carnival, including 
 cotton candy, jelly apples, popcorn, chicken fingers, fries and so muc
 h more!\r\n\r\n\r\n\r\n\r\n\r\n\r\n\r\n\r\n\r\n\r\n\r\n\r\n\r\n\r\n\r\
 n\r\n\r\n\r\n\r\n\r\n\r\n\r\n\r\n\r\n\r\n\r\n\r\n\r\n\r\n\r\n\r\n\r\n\
 r\n\r\n\r\n\r\n\r\n\r\n\r\n\r\n\r\n\r\n\r\n\r\n\r\n\r\n\r\n\r\n\r\n\r\
 n\r\n\r\n\r\n\r\n\r\n\r\n\r\n\r\n\r\n\r\n\r\n\r\nNote: Restrooms are c
 onveniently located inside the Kids Carnival. Plus, it’s adjacent to
  Food Truck Alley, with more delicious options-from ice cream to pizza
  and everything in between!\r\n\r\n\r\n\r\n\r\n\r\n\r\n\r\n\r\n\r\n\n\
 nFor more information visit http://newportmommy.com/events/50-star-fir
 e-show
DTSTART;TZID=America/Anguilla:20190704T120000
DTEND;TZID=America/Anguilla:20190704T220000
CATEGORIES:event, for, all
LOCATION:Exchange Place Jersey City, NJ 07302
WEBSITE:
URL:
CONTACT:
ORGANIZER:Jersey City Municipal Council
ATTACH;FMTTYPE="image/jpeg":https://storage.ning.com/topology/rest/1.0
 /file/get/3193199186?profile=original
ATTENDEE;ROLE=REQ-PARTICIPANT;PARTSTAT=ACCEPTED;RSVP=TRUE;CN="alka dub
 ey":http://newportmommy.com/profile/alkadubey
END:VEVENT
END:VCALENDAR
