BEGIN:VCALENDAR
PRODID:NingEventWidget-v1
VERSION:2.0
METHOD:PUBLISH
BEGIN:VTIMEZONE
TZID:America/Anguilla
X-LIC-LOCATION:America/Anguilla
BEGIN:STANDARD
TZOFFSETFROM:-0400
TZOFFSETTO:-0400
TZNAME:AST
DTSTART:19700101T000000
END:STANDARD
END:VTIMEZONE
BEGIN:VEVENT
UID:6466865:Event:81384
DTSTAMP:20260421T130533Z
SUMMARY:All About Bones -Join Us Live!
DESCRIPTION:\r\nPeek inside the operating room! Liberty Science Center
 's Live From Surgery program offers viewers a unique opportunity to wa
 tch real surgeries and envision a career in the medical field.\r\nJoin
  the Live From Surgery Team for All About Bones, streamed LIVE on Libe
 rty Science Center’s Facebook page, Tuesday, May 19 at 1:00 PM.\r\nW
 hy do we have bones? What are they made of, and what happens when they
  break? Follow along during our presentation, and feel free to ask any
  questions – we’re happy to answer!\r\nThis live stream is free to
  all viewers! We are grateful to the supporters and members who make t
 his learning possible via a donation to the LSC Sustainability Fund. h
 ttps://lsc.org/support-us/lsc-sustainability-fund\n\nFor more informat
 ion visit http://newportmommy.com/events/all-about-bones-join-us-live
DTSTART;TZID=America/Anguilla:20200519T130000
DTEND;TZID=America/Anguilla:20200519T134500
CATEGORIES:kids, event
LOCATION:Liberty Science Center 222 Jersey City Blvd, Jersey City, New
  Jersey 07305
WEBSITE:
URL:
CONTACT:
ORGANIZER:Liberty Science Center
ATTACH;FMTTYPE="image/jpeg":https://storage.ning.com/topology/rest/1.0
 /file/get/5102387300?profile=original
ATTENDEE;ROLE=REQ-PARTICIPANT;PARTSTAT=ACCEPTED;RSVP=TRUE;CN="alka dub
 ey":http://newportmommy.com/profile/alkadubey
END:VEVENT
END:VCALENDAR
