BEGIN:VCALENDAR
PRODID:NingEventWidget-v1
VERSION:2.0
METHOD:PUBLISH
BEGIN:VTIMEZONE
TZID:America/Anguilla
X-LIC-LOCATION:America/Anguilla
BEGIN:STANDARD
TZOFFSETFROM:-0400
TZOFFSETTO:-0400
TZNAME:AST
DTSTART:19700101T000000
END:STANDARD
END:VTIMEZONE
BEGIN:VEVENT
UID:6466865:Event:81354
DTSTAMP:20260421T114936Z
SUMMARY:All About Exoplanet-Join Us Live
DESCRIPTION:Join us for our next Planetarium Online live stream on Thu
 rsday, April 23 at 1 PM! Head to LSC's Facebook page and follow along 
 with our planetarium educator as we explore humanity's search for plan
 ets outside our solar system. During the show, we will investigate som
 e of the incredible technology that has led to the discovery of thousa
 nds of exoplanets. Along the way, we will visit some of the strangest 
 planets we have discovered, including a planet where it rains glass! A
 fter the presentation, our educator will stick around to answer viewer
  questions. Don’t miss it! Check out more of our digital, at-home \"
 LSC in the House\" content while the Science Center is temporarily clo
 sed: https://lsc.org/education/lsc-in-the-house\n\nFor more informatio
 n visit http://newportmommy.com/events/all-about-exoplanet-join-us-liv
 e
DTSTART;TZID=America/Anguilla:20200423T130000
DTEND;TZID=America/Anguilla:20200423T140000
CATEGORIES:event, for, all
LOCATION:Liberty Science Center 222 Jersey City Blvd, Jersey City, New
  Jersey 07305
WEBSITE:
URL:
CONTACT:
ORGANIZER:Liberty Science Center
ATTACH;FMTTYPE="image/jpeg":https://storage.ning.com/topology/rest/1.0
 /file/get/4486243021?profile=original
ATTENDEE;ROLE=REQ-PARTICIPANT;PARTSTAT=ACCEPTED;RSVP=TRUE;CN="alka dub
 ey":http://newportmommy.com/profile/alkadubey
END:VEVENT
END:VCALENDAR
