BEGIN:VCALENDAR
PRODID:NingEventWidget-v1
VERSION:2.0
METHOD:PUBLISH
BEGIN:VTIMEZONE
TZID:America/Anguilla
X-LIC-LOCATION:America/Anguilla
BEGIN:STANDARD
TZOFFSETFROM:-0400
TZOFFSETTO:-0400
TZNAME:AST
DTSTART:19700101T000000
END:STANDARD
END:VTIMEZONE
BEGIN:VEVENT
UID:6466865:Event:81518
DTSTAMP:20260421T113549Z
SUMMARY:All About Pluto-Join Us Live
DESCRIPTION:\r\nAll About Pluto! Join Liberty Science Center’s plane
 tarium team on May 7 at 1 PM EDT, streamed right here on our Facebook 
 page!\r\nFollow along with an LSC planetarium educator as we talk all 
 about everyone’s favorite underdog story: the dwarf planet Pluto! Wh
 y exactly was Pluto demoted way back in 2006, and what have we learned
  about it since? Along the way, we will visit other planets and explor
 e why they – and not Pluto – have the official planet status.\r\nC
 ome prepared with questions – we’re happy to answer!\r\nLiberty Sc
 ience Center is home to the Jennifer Chalsty Planetarium, the biggest 
 planetarium in America.\r\nWe would like to give a special thank you t
 o the members and supporters who continue to make this science learnin
 g possible through their support of the LSC Sustainability Fund! https
 ://lsc.org/support-us/lsc-sustainability-fund\n\nFor more information 
 visit http://newportmommy.com/events/all-about-pluto-join-us-live
DTSTART;TZID=America/Anguilla:20200507T130000
DTEND;TZID=America/Anguilla:20200507T134500
CATEGORIES:kids, event
LOCATION:Liberty Science Center 222 Jersey City Blvd, Jersey City, New
  Jersey 07305
WEBSITE:
URL:
CONTACT:
ORGANIZER:Liberty Science Center
ATTACH;FMTTYPE="image/jpeg":https://storage.ning.com/topology/rest/1.0
 /file/get/4769944495?profile=original
ATTENDEE;ROLE=REQ-PARTICIPANT;PARTSTAT=ACCEPTED;RSVP=TRUE;CN="alka dub
 ey":http://newportmommy.com/profile/alkadubey
END:VEVENT
END:VCALENDAR
