BEGIN:VCALENDAR
PRODID:NingEventWidget-v1
VERSION:2.0
METHOD:PUBLISH
BEGIN:VTIMEZONE
TZID:America/Anguilla
X-LIC-LOCATION:America/Anguilla
BEGIN:STANDARD
TZOFFSETFROM:-0400
TZOFFSETTO:-0400
TZNAME:AST
DTSTART:19700101T000000
END:STANDARD
END:VTIMEZONE
BEGIN:VEVENT
UID:6466865:Event:79480
DTSTAMP:20260420T175625Z
SUMMARY:Angry Birds Universe – Opening Weekend!
DESCRIPTION:Details\r\nLSC’s newest premium exhibition, Angry Birds 
 Universe: The Art and Science Behind a Global Phenomenon, flies into J
 ersey City on Oct. 5!Based on the popular games, the exhibition takes 
 guests of all ages into the world of Angry Birds for interactive adven
 tures, both physically challenging and mentally stimulating. Explore d
 ifferent concepts in science, tech, engineering, arts, and math in an 
 extreme hands-on environment!Highlights include:–Build and race vehi
 cles in a live version of the Angry Birds Go! kart racing game–Use r
 eal slingshots to aim birds through the air–Draw your own bird and a
 nimate it in the high-tech design studio–Conquer the climbing wall, 
 play a game of laser tag, explore real characteristics of birds, visi
 t the vortex and earthquake tables, and more!Angry Birds Universe: The
  Art and Science Behind a Global Phenomenon is available with the purc
 hase of a Combination or Premium Pass. Experience it from Oct. 5, 2019
  through April 19, 2020 at LSC!\n\nFor more information visit http://n
 ewportmommy.com/events/angry-birds-universe-opening-weekend-1
DTSTART;TZID=America/Anguilla:20191006T090000
DTEND;TZID=America/Anguilla:20191006T173000
CATEGORIES:kids, event
LOCATION:Liberty Science Center 222 Jersey City Blvd Jersey City, New 
 Jersey 07305
WEBSITE:
URL:
CONTACT:
ORGANIZER:Liberty Science Center
ATTACH;FMTTYPE="image/jpeg":https://storage.ning.com/topology/rest/1.0
 /file/get/3643964740?profile=original
ATTENDEE;ROLE=REQ-PARTICIPANT;PARTSTAT=ACCEPTED;RSVP=TRUE;CN="alka dub
 ey":http://newportmommy.com/profile/alkadubey
END:VEVENT
END:VCALENDAR
