BEGIN:VCALENDAR
PRODID:NingEventWidget-v1
VERSION:2.0
METHOD:PUBLISH
BEGIN:VTIMEZONE
TZID:America/Anguilla
X-LIC-LOCATION:America/Anguilla
BEGIN:STANDARD
TZOFFSETFROM:-0400
TZOFFSETTO:-0400
TZNAME:AST
DTSTART:19700101T000000
END:STANDARD
END:VTIMEZONE
BEGIN:VEVENT
UID:6466865:Event:82016
DTSTAMP:20260421T130614Z
SUMMARY:Asteroid Impact Join us Live
DESCRIPTION:Join us for our next Planetarium Online live stream on Thu
 rsday, June 18 at 1 PM EDT: Asteroid Impact!\r\n\r\nFrom giant craters
  in plain sight to the extinction of the dinosaurs, asteroids have had
  a huge impact on planet Earth. Follow along LIVE on Liberty Science C
 enter’s Facebook page as we explore asteroids and what we’re doing
  to monitor and ward off future dangers from the sky.\r\n\r\nFeel free
  to ask questions – we’re happy to answer!\r\n\r\nLiberty Science 
 Center is home to the Jennifer Chalsty Planetarium, the biggest planet
 arium in America. Video for this presentation was created on an Evans 
 & Sutherland Digistar 6 system.\r\n\r\nWe stream amazing FREE digital 
 programs like this one on Facebook every week, Monday through Friday! 
 Make sure to like our Facebook page to keep up with all our programs.\
 r\n\r\nWe would like to give a special thank you to the members and su
 pporters who continue to make this science learning possible through t
 heir support of the LSC Sustainability Fund! https://bit.ly/2ZECkYH\n\
 nFor more information visit http://newportmommy.com/events/asteroid-im
 pact-join-us-live
DTSTART;TZID=America/Anguilla:20200618T130000
DTEND;TZID=America/Anguilla:20200618T134500
CATEGORIES:kids, event
LOCATION:Liberty Science Center 222 Jersey City Blvd, Jersey City, New
  Jersey 07305
WEBSITE:
URL:
CONTACT:
ORGANIZER:Liberty Science Center
ATTACH;FMTTYPE="image/jpeg":
ATTENDEE;ROLE=REQ-PARTICIPANT;PARTSTAT=ACCEPTED;RSVP=TRUE;CN="alka dub
 ey":http://newportmommy.com/profile/alkadubey
END:VEVENT
END:VCALENDAR
