BEGIN:VCALENDAR
PRODID:NingEventWidget-v1
VERSION:2.0
METHOD:PUBLISH
BEGIN:VTIMEZONE
TZID:America/Anguilla
X-LIC-LOCATION:America/Anguilla
BEGIN:STANDARD
TZOFFSETFROM:-0400
TZOFFSETTO:-0400
TZNAME:AST
DTSTART:19700101T000000
END:STANDARD
END:VTIMEZONE
BEGIN:VEVENT
UID:6466865:Event:80991
DTSTAMP:20260421T145544Z
SUMMARY:Books on the Move: Jersey City Free Public Library - The Bonet
 ti Children's Dept (Chato's Kitchen)
DESCRIPTION:On Friday, May 29, 2020, join NJPAC Teaching Artist Wincey
  Terry for a free reading of Chato’s Kitchen written by Gary Soto an
 d illustrated by Susan Guevara.Chato’s KitchenChato, the coolest cat
  in East L.A., couldn’t be happier when a family of mice moves into 
 the “barrio”. When Chato gets out the pots and pans to prepare a f
 east in honor of their new neighbors, he gets more than he can handle 
 with the surprise guest the mice bring along.                
                The first 25 families to RSVP will receive a FR
 EE copy of the book!\n\nFor more information visit http://newportmommy
 .com/events/books-on-the-move-jersey-city-free-public-library-the-bone
 tti-chi
DTSTART;TZID=America/Anguilla:20200529T150000
DTEND;TZID=America/Anguilla:20200529T170000
CATEGORIES:kids, event
LOCATION:Jersey City Free Public Library: Children's Dept 472 Jersey A
 ve, Jersey City, NJ, United States
WEBSITE:
URL:
CONTACT:
ORGANIZER:New Jersey Performing Arts Center (NJPAC)
ATTACH;FMTTYPE="image/jpeg":https://storage.ning.com/topology/rest/1.0
 /file/get/4351529443?profile=original
ATTENDEE;ROLE=REQ-PARTICIPANT;PARTSTAT=ACCEPTED;RSVP=TRUE;CN="alka dub
 ey":http://newportmommy.com/profile/alkadubey
END:VEVENT
END:VCALENDAR
