BEGIN:VCALENDAR
PRODID:NingEventWidget-v1
VERSION:2.0
METHOD:PUBLISH
BEGIN:VTIMEZONE
TZID:America/Anguilla
X-LIC-LOCATION:America/Anguilla
BEGIN:STANDARD
TZOFFSETFROM:-0400
TZOFFSETTO:-0400
TZNAME:AST
DTSTART:19700101T000000
END:STANDARD
END:VTIMEZONE
BEGIN:VEVENT
UID:6466865:Event:81423
DTSTAMP:20260421T101248Z
SUMMARY:Celebrating National Donate Life Month - Join Us Live
DESCRIPTION:\r\nPeek inside the operating room! LSC’s Live From Surg
 ery program offers viewers a unique opportunity to watch real surgerie
 s and envision a career in the medical field.\r\nJoin us Tuesday, Apri
 l 28 at 1 PM EDT for a celebration of National Donate Life Month, stre
 amed right here on Liberty Science Center’s Facebook page!\r\nObserv
 ed each April, National Donate Life Month helps encourage people to re
 gister as organ, eye, and tissue donors and to honor those who have sa
 ved lives through the gift of donation. Follow along with LSC’s Live
  From Surgery Team as we interview a representative from the NJ Sharin
 g Network and a special guest with a personal donor experience. Learn 
 more about the process of how an organ makes its life-saving journey f
 rom donor to recipient.\r\nWe would like to give a special thank you t
 o the members and supporters who continue to make this science learnin
 g possible through their support of the LSC Sustainability Fund! https
 ://lsc.org/support-us/lsc-sustainability-fund\n\nFor more information 
 visit http://newportmommy.com/events/celebrating-national-donate-life-
 month-join-us-live
DTSTART;TZID=America/Anguilla:20200428T130000
DTEND;TZID=America/Anguilla:20200428T134500
CATEGORIES:kids, event
LOCATION:Liberty Science Center 222 Jersey City Blvd, Jersey City, New
  Jersey 07305
WEBSITE:
URL:
CONTACT:
ORGANIZER:Liberty Science Center
ATTACH;FMTTYPE="image/jpeg":https://storage.ning.com/topology/rest/1.0
 /file/get/4512205009?profile=original
ATTENDEE;ROLE=REQ-PARTICIPANT;PARTSTAT=ACCEPTED;RSVP=TRUE;CN="alka dub
 ey":http://newportmommy.com/profile/alkadubey
END:VEVENT
END:VCALENDAR
