BEGIN:VCALENDAR
PRODID:NingEventWidget-v1
VERSION:2.0
METHOD:PUBLISH
BEGIN:VTIMEZONE
TZID:America/Anguilla
X-LIC-LOCATION:America/Anguilla
BEGIN:STANDARD
TZOFFSETFROM:-0400
TZOFFSETTO:-0400
TZNAME:AST
DTSTART:19700101T000000
END:STANDARD
END:VTIMEZONE
BEGIN:VEVENT
UID:6466865:Event:80997
DTSTAMP:20260421T113730Z
SUMMARY:Cow Eye Dissection -Join us Live !
DESCRIPTION:\r\nPeek inside the operating room! LSC’s Live From Surg
 ery program offers viewers a unique opportunity to watch real surgerie
 s and envision a career in the medical field.\r\nJoin us on Tuesday, A
 pril 21 at 1 PM for a Cow Eye Dissection, streamed live on LSC's Faceb
 ook page! Follow along as we explore what is inside our eyes and how t
 hey work. By observing the dissection of a cow's eye, we will understa
 nd the structure and functions of the eye, and the similarities and di
 fferences between a human eye and a cow's eye.\r\nAfter the presentati
 on, our educator will stick around to answer viewer questions. Don’t
  miss it!\r\nCheck out more of our digital, at-home \"LSC in the House
 \" content while the Science Center is temporarily closed:https://lsc.
 org/education/lsc-in-the-house\n\nFor more information visit http://ne
 wportmommy.com/events/cow-eyes-dissection-join-us-live
DTSTART;TZID=America/Anguilla:20200421T130000
DTEND;TZID=America/Anguilla:20200421T134500
CATEGORIES:event, for, all
LOCATION:Liberty Science Center 222 Jersey City Blvd, Jersey City, New
  Jersey 07305
WEBSITE:
URL:
CONTACT:
ORGANIZER:Liberty Science Center
ATTACH;FMTTYPE="image/jpeg":https://storage.ning.com/topology/rest/1.0
 /file/get/4462809871?profile=original
ATTENDEE;ROLE=REQ-PARTICIPANT;PARTSTAT=ACCEPTED;RSVP=TRUE;CN="alka dub
 ey":http://newportmommy.com/profile/alkadubey
END:VEVENT
END:VCALENDAR
