BEGIN:VCALENDAR
PRODID:NingEventWidget-v1
VERSION:2.0
METHOD:PUBLISH
BEGIN:VTIMEZONE
TZID:America/Anguilla
X-LIC-LOCATION:America/Anguilla
BEGIN:STANDARD
TZOFFSETFROM:-0400
TZOFFSETTO:-0400
TZNAME:AST
DTSTART:19700101T000000
END:STANDARD
END:VTIMEZONE
BEGIN:VEVENT
UID:6466865:Event:78541
DTSTAMP:20260421T165638Z
SUMMARY:Dragon The Hidden World (Summer Kids Series 2019)
DESCRIPTION:2019 Summer Kids Series\r\nSee Movies all Summer long with
  Bow Tie Cinemas!\r\nSeating Limited to Theater, Tickets issued on a c
 ome First Come First Served basis. Films and Schedules to change witho
 ut Notice.\r\nDragon The Hidden World\r\n2 & 3 July\r\nTuesday and Wed
 nesday at 10 am\r\n\r\n\n\nFor more information visit http://newportmo
 mmy.com/events/dragon-the-hidden-world-summer-kids-series-2019-1
DTSTART;TZID=America/Anguilla:20190703T100000
DTEND;TZID=America/Anguilla:20190703T120000
CATEGORIES:kids, events
LOCATION:409-415 14TH STREET HOBOKEN, NJ 07030
WEBSITE:
URL:
CONTACT:
ORGANIZER:Bow Tie Cinema
ATTACH;FMTTYPE="image/jpeg":https://storage.ning.com/topology/rest/1.0
 /file/get/3075985674?profile=original
ATTENDEE;ROLE=REQ-PARTICIPANT;PARTSTAT=ACCEPTED;RSVP=TRUE;CN="alka dub
 ey":http://newportmommy.com/profile/alkadubey
END:VEVENT
END:VCALENDAR
