BEGIN:VCALENDAR
PRODID:NingEventWidget-v1
VERSION:2.0
METHOD:PUBLISH
BEGIN:VTIMEZONE
TZID:America/Anguilla
X-LIC-LOCATION:America/Anguilla
BEGIN:STANDARD
TZOFFSETFROM:-0400
TZOFFSETTO:-0400
TZNAME:AST
DTSTART:19700101T000000
END:STANDARD
END:VTIMEZONE
BEGIN:VEVENT
UID:6466865:Event:81905
DTSTAMP:20260421T132230Z
SUMMARY:Explore Robotics Surgery and meet the surgeon
DESCRIPTION:\r\nPeek inside the operating room! Liberty Science Center
 's Live From Surgery program offers viewers a unique opportunity to wa
 tch real surgeries and envision a career in the medical field.\r\nJoin
  the Live From Surgery Team for an exploration of robotic surgery and 
 an interview with the surgeon, streamed LIVE on Liberty Science Center
 ’s Facebook page, Tuesday, June 2 at 1:00 PM.\r\nIn this presentatio
 n, you’ll discover the marvels of robotic surgery, and even hear fro
 m a urological surgeon as they discuss their real-life experiences usi
 ng it in the operating room.\r\nWe stream amazing FREE digital program
 s like this one on Facebook every week, Monday through Friday! Make su
 re to like Liberty Science Center’s Facebook page to keep up with al
 l our programs!\r\nWe are grateful to the supporters and members who m
 ake this learning possible via a donation to the LSC Sustainability Fu
 nd. https://bit.ly/2ZECkYH\n\nFor more information visit http://newpor
 tmommy.com/events/explore-robotics-surgery-and-meet-the-surgeo
DTSTART;TZID=America/Anguilla:20200602T130000
DTEND;TZID=America/Anguilla:20200602T134500
CATEGORIES:event, for, all
LOCATION:Liberty Science Center 222 Jersey City Blvd, Jersey City, New
  Jersey 07305
WEBSITE:
URL:
CONTACT:
ORGANIZER:Liberty Science Center
ATTACH;FMTTYPE="image/jpeg":https://storage.ning.com/topology/rest/1.0
 /file/get/5477168867?profile=original
ATTENDEE;ROLE=REQ-PARTICIPANT;PARTSTAT=ACCEPTED;RSVP=TRUE;CN="alka dub
 ey":http://newportmommy.com/profile/alkadubey
END:VEVENT
END:VCALENDAR
