BEGIN:VCALENDAR
PRODID:NingEventWidget-v1
VERSION:2.0
METHOD:PUBLISH
BEGIN:VTIMEZONE
TZID:America/Anguilla
X-LIC-LOCATION:America/Anguilla
BEGIN:STANDARD
TZOFFSETFROM:-0400
TZOFFSETTO:-0400
TZNAME:AST
DTSTART:19700101T000000
END:STANDARD
END:VTIMEZONE
BEGIN:VEVENT
UID:6466865:Event:81915
DTSTAMP:20260421T154058Z
SUMMARY:Find Jupiter and Saturn in the Sky  Join us Live
DESCRIPTION:AÂ \r\nJoin us June 25 at 1 PM for our next Planetarium On
 line live stream: Find Jupiter and Saturn in the Sky!\r\nIn this show,
  streamed LIVE on Liberty Science Centerâ€™s Facebook page, weâ€™ll ce
 lebrate the return of Jupiter and Saturn to the evening sky. Find out 
 how to spot them this July, and explore these giants, their moons, and
  their rings as NASA sees them.\r\nFeel free to ask questions â€“ weâ€
 ™re happy to answer!\r\nLiberty Science Center is home to the Jennifer
  Chalsty Planetarium, the biggest planetarium in America. Video for th
 is presentation was created on an Evans & Sutherland Digistar 6 system
 .\r\nWe stream amazing FREE digital programs like this one on Facebook
  every week, Monday through Friday! Make sure to like our Facebook pag
 e to keep up with all our programs.\r\nThank you to all who have donat
 ed and made this science learning possible! Click here to support Libe
 rty Science Center today: https://bit.ly/2ZECkYH\n\nFor more informati
 on visit http://newportmommy.com/events/find-jupiter-and-saturn-in-the
 -sky-join-us-live
DTSTART;TZID=America/Anguilla:20200625T130000
DTEND;TZID=America/Anguilla:20200625T134500
CATEGORIES:kids, event
LOCATION:Liberty Science Center 222 Jersey City Blvd, Jersey City, New
  Jersey 07305
WEBSITE:
URL:
CONTACT:
ORGANIZER:Liberty Science Center
ATTACH;FMTTYPE="image/jpeg":https://storage.ning.com/topology/rest/1.0
 /file/get/6164807254?profile=original
ATTENDEE;ROLE=REQ-PARTICIPANT;PARTSTAT=ACCEPTED;RSVP=TRUE;CN="alka dub
 ey":http://newportmommy.com/profile/alkadubey
END:VEVENT
END:VCALENDAR
