BEGIN:VCALENDAR
PRODID:NingEventWidget-v1
VERSION:2.0
METHOD:PUBLISH
BEGIN:VTIMEZONE
TZID:America/Anguilla
X-LIC-LOCATION:America/Anguilla
BEGIN:STANDARD
TZOFFSETFROM:-0400
TZOFFSETTO:-0400
TZNAME:AST
DTSTART:19700101T000000
END:STANDARD
END:VTIMEZONE
BEGIN:VEVENT
UID:6466865:Event:81525
DTSTAMP:20260421T113647Z
SUMMARY:Five Planets One Night- Join Us Live !
DESCRIPTION:Five planets can sometimes be seen without a telescope, an
 d this month, we have a rare chance to see them all in one night!\r\nJ
 oin us LIVE on Liberty Science Center’s Facebook page, Thursday, May
  21, at 1:00 PM EDT! We’ll show you how to find Venus and the elusiv
 e Mercury at dusk, then spot Saturn, Mars, and Jupiter in the early mo
 rning.\r\nFeel free to ask any questions – we’re happy to answer!\
 r\nLiberty Science Center is home to the Jennifer Chalsty Planetarium,
  the biggest planetarium in America. Video for this presentation was c
 reated on an Evans & Sutherland Digistar 6 system.\r\nThis live stream
  is free to all viewers! We are grateful to the supporters and members
  who make this learning possible via a donation to the LSC Sustainabil
 ity Fund. https://lsc.org/support-us/lsc-sustainability-fund\n\nFor mo
 re information visit http://newportmommy.com/events/five-planets-one-n
 ight-join-us-live
DTSTART;TZID=America/Anguilla:20200521T130000
DTEND;TZID=America/Anguilla:20200521T140000
CATEGORIES:kids, event
LOCATION:Liberty Science Center 222 Jersey City Blvd, Jersey City, New
  Jersey 07305
WEBSITE:
URL:
CONTACT:
ORGANIZER:Liberty Science Center
ATTACH;FMTTYPE="image/jpeg":https://storage.ning.com/topology/rest/1.0
 /file/get/5102460681?profile=original
ATTENDEE;ROLE=REQ-PARTICIPANT;PARTSTAT=ACCEPTED;RSVP=TRUE;CN="alka dub
 ey":http://newportmommy.com/profile/alkadubey
END:VEVENT
END:VCALENDAR
