BEGIN:VCALENDAR
PRODID:NingEventWidget-v1
VERSION:2.0
METHOD:PUBLISH
BEGIN:VTIMEZONE
TZID:America/Anguilla
X-LIC-LOCATION:America/Anguilla
BEGIN:STANDARD
TZOFFSETFROM:-0400
TZOFFSETTO:-0400
TZNAME:AST
DTSTART:19700101T000000
END:STANDARD
END:VTIMEZONE
BEGIN:VEVENT
UID:6466865:Event:81380
DTSTAMP:20260421T150140Z
SUMMARY:Fly to the Edge of the Universe- Join Us Live!
DESCRIPTION:\r\nJoin us for our next Planetarium Online live stream, T
 hursday, May 14 at 1 PM, streamed on Liberty Science Center’s Facebo
 ok page!\r\nThe universe is a gigantic place, filled with galaxies, pl
 anets, black holes, and so much more. Follow along with our LIVE plane
 tarium educator as we fly all the way from Earth out to the edge of th
 e observable universe.\r\nDuring our journey, we will witness galaxies
  in the middle of colliding, learn all about the Big Bang, and see jus
 t how enormous the universe truly is.\r\nFeel free to ask any question
 s – we’re happy to answer!\r\nLiberty Science Center is home to th
 e Jennifer Chalsty Planetarium, the biggest planetarium in America. Vi
 deo for this presentation was created on an Evans & Sutherland Digista
 r 6 system.\r\nWe would like to give a special thank you to the member
 s and supporters who continue to make this science learning possible t
 hrough their support of the LSC Sustainability Fund! https://lsc.org/s
 upport-us/lsc-sustainability-fund\n\nFor more information visit http:/
 /newportmommy.com/events/fly-to-the-edge-of-the-universe-join-us-live
DTSTART;TZID=America/Anguilla:20200514T130000
DTEND;TZID=America/Anguilla:20200514T140000
CATEGORIES:kids, event
LOCATION:Liberty Science Center 222 Jersey City Blvd, Jersey City, New
  Jersey 07305
WEBSITE:
URL:
CONTACT:
ORGANIZER:Liberty Science Center
ATTACH;FMTTYPE="image/jpeg":https://storage.ning.com/topology/rest/1.0
 /file/get/4917549485?profile=original
ATTENDEE;ROLE=REQ-PARTICIPANT;PARTSTAT=ACCEPTED;RSVP=TRUE;CN="alka dub
 ey":http://newportmommy.com/profile/alkadubey
END:VEVENT
END:VCALENDAR
