BEGIN:VCALENDAR
PRODID:NingEventWidget-v1
VERSION:2.0
METHOD:PUBLISH
BEGIN:VTIMEZONE
TZID:America/Anguilla
X-LIC-LOCATION:America/Anguilla
BEGIN:STANDARD
TZOFFSETFROM:-0400
TZOFFSETTO:-0400
TZNAME:AST
DTSTART:19700101T000000
END:STANDARD
END:VTIMEZONE
BEGIN:VEVENT
UID:6466865:Event:79287
DTSTAMP:20260420T192516Z
SUMMARY:Hudson Montessori School - School Tour
DESCRIPTION:Please join us for a school tour and see the children work
 ing in the classroom environment, to meet the staff and learn about ou
 r curriculum. Please use this link to register: https://hudsonmontess
 ori.net/school-tour/\n\nFor more information visit http://newportmommy
 .com/events/hudson-montessori-school-school-tour-23
DTSTART;TZID=America/Anguilla:20191008T091500
DTEND;TZID=America/Anguilla:20191008T103000
CATEGORIES:school, tour
LOCATION:Hudson Montessori School
WEBSITE:https://hudsonmontessori.net/school-tour/
URL:https://hudsonmontessori.net/school-tour/
CONTACT:2015160700
ORGANIZER;CN="Maki Vilomar":http://newportmommy.com/profile/MakiViloma
 r
ATTACH;FMTTYPE="image/jpeg":https://storage.ning.com/topology/rest/1.0
 /file/get/925404679?profile=original
ATTENDEE;ROLE=REQ-PARTICIPANT;PARTSTAT=ACCEPTED;RSVP=TRUE;CN="Maki Vil
 omar":http://newportmommy.com/profile/MakiVilomar
END:VEVENT
END:VCALENDAR
