BEGIN:VCALENDAR
PRODID:NingEventWidget-v1
VERSION:2.0
METHOD:PUBLISH
BEGIN:VTIMEZONE
TZID:America/Anguilla
X-LIC-LOCATION:America/Anguilla
BEGIN:STANDARD
TZOFFSETFROM:-0400
TZOFFSETTO:-0400
TZNAME:AST
DTSTART:19700101T000000
END:STANDARD
END:VTIMEZONE
BEGIN:VEVENT
UID:6466865:Event:82011
DTSTAMP:20260421T170810Z
SUMMARY:Hudson Montessori School Virtual Summer Camp
DESCRIPTION:Primary and Elementary Virtual Camp Details\n\nWhere in th
 e World? Australia! Primary Camp\n\nStorytelling with Technology Eleme
 ntary Camp\n\nFor more information visit http://newportmommy.com/event
 s/hudson-montessori-school-virtual-summer-camp
DTSTART;TZID=America/Anguilla:20200629T000000
DTEND;TZID=America/Anguilla:20200807T235900
CATEGORIES:summer, camp
LOCATION:Remote
WEBSITE:https://hudsonmontessori.net/2020-virtual-summer-camp/
URL:https://hudsonmontessori.net/2020-virtual-summer-camp/
CONTACT:
ORGANIZER;CN="Maki Vilomar":http://newportmommy.com/profile/MakiViloma
 r
ATTACH;FMTTYPE="image/jpeg":https://storage.ning.com/topology/rest/1.0
 /file/get/5729876886?profile=original
ATTENDEE;ROLE=REQ-PARTICIPANT;PARTSTAT=ACCEPTED;RSVP=TRUE;CN="Maki Vil
 omar":http://newportmommy.com/profile/MakiVilomar
END:VEVENT
END:VCALENDAR
