BEGIN:VCALENDAR
PRODID:NingEventWidget-v1
VERSION:2.0
METHOD:PUBLISH
BEGIN:VTIMEZONE
TZID:America/Anguilla
X-LIC-LOCATION:America/Anguilla
BEGIN:STANDARD
TZOFFSETFROM:-0400
TZOFFSETTO:-0400
TZNAME:AST
DTSTART:19700101T000000
END:STANDARD
END:VTIMEZONE
BEGIN:VEVENT
UID:6466865:Event:81799
DTSTAMP:20260422T050012Z
SUMMARY:Intensive Algebra One 9 7th, 8th, and 9th grade)
DESCRIPTION:Intensive Algebra One (7th,8th, and 9th grade)\nJune 8th t
 hrough August 28th ( no class on 7/1, 7/3, 8/12, and 8/14\nMondays, We
 dnesdays, and Fridays\n11:00am-12:30pm.\n6 students\nWe will have an e
 xam every other Friday at 12:30-1:30pm.\nExams will be graded.\nFees :
  $ 1,400\n\nGoal: “ The ideal is : to think and to do math simultane
 ously”\n\nStudents are expected to:\nA. Be on time ( after 15 minute
 s, a student is not allowed to join the session)\nB. 2 absences are al
 lowed ( with a note from the student and “cc” the parents)\nC. Do 
 the class work and turn in homework in time and with full efforts\nD. 
 Shall a student needs an extension on homework, an email is expected f
 rom the student and “cc” parents.\nE.Participations are required a
 nd expected in every class.\nF.No cell phone is allowed during the cla
 ss time.\nG.I will expect a student to reach out for necessary help.\n
 H.Good manners are expected in both, verbal and in writing, interactio
 ns.\n\nFor more information visit http://newportmommy.com/events/inten
 sive-algebra-one-9-7th-8th-and-9th-grade
DTSTART;TZID=America/Anguilla:20200608T140000
DTEND;TZID=America/Anguilla:20200828T153000
CATEGORIES:math, camp
LOCATION:101 Hudson Street, suite 2100, Jersey City, NJ 07302
WEBSITE:
URL:
CONTACT:
ORGANIZER;CN="Chandra Budi":http://newportmommy.com/profile/ChandraBud
 i
ATTACH;FMTTYPE="image/jpeg":
ATTENDEE;ROLE=REQ-PARTICIPANT;PARTSTAT=ACCEPTED;RSVP=TRUE;CN="Chandra 
 Budi":http://newportmommy.com/profile/ChandraBudi
END:VEVENT
END:VCALENDAR
