BEGIN:VCALENDAR
PRODID:NingEventWidget-v1
VERSION:2.0
METHOD:PUBLISH
BEGIN:VTIMEZONE
TZID:America/Anguilla
X-LIC-LOCATION:America/Anguilla
BEGIN:STANDARD
TZOFFSETFROM:-0400
TZOFFSETTO:-0400
TZNAME:AST
DTSTART:19700101T000000
END:STANDARD
END:VTIMEZONE
BEGIN:VEVENT
UID:6466865:Event:79473
DTSTAMP:20260420T140602Z
SUMMARY:JCAST Kids Music Improvisation Workshop
DESCRIPTION:\r\n\r\nDetails\r\n\r\nIn honor of the 29th annual Jersey 
 City Art Studio Tour (JCAST), we are hosting a fantastic kids workshop
  led by After School Activities. Bring your kids to make some beautif
 ul improvised music and come check out some amazing art!!  A workshop 
 for kids to create music on the spot. We'll play theater games, use ca
 ll and response, and focus on listening and supporting one another to 
 create music that has never been played before.  No musical experience
  necessary, but if comfortable, you are welcome to bring an instrument
 .  Hosted by After School Activities' Musical Maestro Alex Pergament  
 #JCASTKIDS #JCAST2019 #JCAST #JERSEYCITYKIDS #JERSEYCITYMOMS#JERSEYCI
 TYFAMILIES #JERSEYCITYKIDS\n\nFor more information visit http://newpor
 tmommy.com/events/jcast-kids-music-improvisation-workshop
DTSTART;TZID=America/Anguilla:20191005T123000
DTEND;TZID=America/Anguilla:20191005T140000
CATEGORIES:kids, event
LOCATION:Deep Space Gallery 77 Cornelison Ave, Jersey City, New Jersey
  07304
WEBSITE:
URL:
CONTACT:
ORGANIZER:Deep Space Galleryand After School Activities
ATTACH;FMTTYPE="image/jpeg":https://storage.ning.com/topology/rest/1.0
 /file/get/3631140246?profile=original
ATTENDEE;ROLE=REQ-PARTICIPANT;PARTSTAT=ACCEPTED;RSVP=TRUE;CN="alka dub
 ey":http://newportmommy.com/profile/alkadubey
END:VEVENT
END:VCALENDAR
