BEGIN:VCALENDAR
PRODID:NingEventWidget-v1
VERSION:2.0
METHOD:PUBLISH
BEGIN:VTIMEZONE
TZID:America/Anguilla
X-LIC-LOCATION:America/Anguilla
BEGIN:STANDARD
TZOFFSETFROM:-0400
TZOFFSETTO:-0400
TZNAME:AST
DTSTART:19700101T000000
END:STANDARD
END:VTIMEZONE
BEGIN:VEVENT
UID:6466865:Event:78044
DTSTAMP:20260419T091223Z
SUMMARY:Kids' Summer Drawing Classes at WORD JC
DESCRIPTION:DetailsDrawing classes are back at WORD Jersey City! Books
 eller and illustrator/artist Chazz Jogie will lead a five-week course 
 this June and July—on Sundays for kids and on Mondays for adults—t
 hat will culminate with a mini art show in the store. Students will le
 arn how to illustrate their own comic book pages, and at the end of th
 e course will have the opportunity to present their work in an open wo
 rkshop.\r\nThe class price includes all necessary materials for the se
 ssion (sketch pad, pencils, sharpener, and eraser) as well as a small 
 snack for the kids' classes. Classes are available à la carte or as a
  full course. Kids' classes begin on June 9 and adult classes begin Ju
 ne 10; the kids' class will run from 2 to 4 PM and the adult class wil
 l run 7 to 9 PM.\r\nMembers of WORD's Inner Circle program will receiv
 e their usual 10 percent discount.\r\nKIDS' CLASS DATES: June 9, June 
 16, June 23, June 30, July 7\n\nFor more information visit http://newp
 ortmommy.com/events/kids-summer-drawing-classes-at-word-jc-2
DTSTART;TZID=America/Anguilla:20190623T140000
DTEND;TZID=America/Anguilla:20190623T160000
CATEGORIES:kids, events
LOCATION:WORD Jersey City · 123 Newark Ave, Jersey City, New Jersey 0
 7302
WEBSITE:
URL:
CONTACT:
ORGANIZER:WORD Jersey City
ATTACH;FMTTYPE="image/jpeg":https://storage.ning.com/topology/rest/1.0
 /file/get/2538231646?profile=original
ATTENDEE;ROLE=REQ-PARTICIPANT;PARTSTAT=ACCEPTED;RSVP=TRUE;CN="alka dub
 ey":http://newportmommy.com/profile/alkadubey
END:VEVENT
END:VCALENDAR
