BEGIN:VCALENDAR
PRODID:NingEventWidget-v1
VERSION:2.0
METHOD:PUBLISH
BEGIN:VTIMEZONE
TZID:America/Anguilla
X-LIC-LOCATION:America/Anguilla
BEGIN:STANDARD
TZOFFSETFROM:-0400
TZOFFSETTO:-0400
TZNAME:AST
DTSTART:19700101T000000
END:STANDARD
END:VTIMEZONE
BEGIN:VEVENT
UID:6466865:Event:82013
DTSTAMP:20260421T132148Z
SUMMARY:Live from surgery's Virtual Career Day
DESCRIPTION:Peek inside the operating room! Liberty Science Center's L
 ive From Surgery program offers viewers a unique opportunity to watch 
 real surgeries and envision a career in the medical field.\r\n\r\nOn T
 uesday, June 16 at 1 PM EDT, join us for Live From Surgery’s Virtual
  Career Day, streamed LIVE on Liberty Science Center's Facebook page! 
 Whether you’re a student or a career-changer, find out about the wid
 e range of opportunities in the medical field.\r\n\r\nWe stream amazin
 g FREE digital programs like this one on Facebook every week, Monday t
 hrough Friday! Make sure to like Liberty Science Center’s Facebook p
 age to keep up with all our programs!\r\n\r\nWe are grateful to the su
 pporters and members who make this learning possible via a donation to
  the LSC Sustainability Fund. https://bit.ly/2ZECkYH\n\nFor more infor
 mation visit http://newportmommy.com/events/live-from-surgery-s-virtua
 l-career-day
DTSTART;TZID=America/Anguilla:20200616T130000
DTEND;TZID=America/Anguilla:20200616T134500
CATEGORIES:kids, event
LOCATION:Liberty Science Center 222 Jersey City Blvd, Jersey City, New
  Jersey 07305
WEBSITE:
URL:
CONTACT:
ORGANIZER:Liberty Science Center
ATTACH;FMTTYPE="image/jpeg":
ATTENDEE;ROLE=REQ-PARTICIPANT;PARTSTAT=ACCEPTED;RSVP=TRUE;CN="alka dub
 ey":http://newportmommy.com/profile/alkadubey
END:VEVENT
END:VCALENDAR
