BEGIN:VCALENDAR
PRODID:NingEventWidget-v1
VERSION:2.0
METHOD:PUBLISH
BEGIN:VTIMEZONE
TZID:America/Anguilla
X-LIC-LOCATION:America/Anguilla
BEGIN:STANDARD
TZOFFSETFROM:-0400
TZOFFSETTO:-0400
TZNAME:AST
DTSTART:19700101T000000
END:STANDARD
END:VTIMEZONE
BEGIN:VEVENT
UID:6466865:Event:81419
DTSTAMP:20260421T100507Z
SUMMARY:LSC Junior :Flower Power  -Join Us Live!
DESCRIPTION:\r\nLast week’s special young learner activity was such 
 a hit, we’re bringing Mr. Kengo back for another LSC Junior live str
 eam activity!\r\nJoin us Monday, April 27 at 11:30 AM EDT on Liberty S
 cience Center’s Facebook page for Flower Power, a chromatography exp
 eriment!\r\nAs we turn to the spring season, flowers are beginning to 
 bloom again. But how do they get the water they need to grow? In this 
 program, we’ll explore how plants use specialized parts to take in a
 nd spread water all throughout its body.\r\nFollow along with Mr. Keng
 o as we make a flower model to observe how water is able to travel thr
 ough a flower to help it grow. Friends and families participating from
  home will need 4 or 5 coffee filters (but you can substitute paper to
 wels or newspaper), a pair of scissors, some markers, a cup, and water
 .\r\nWe would like to give a special thank you to the members and supp
 orters who continue to make this science learning possible through the
 ir support of the LSC Sustainability Fund! https://lsc.org/support-us/
 lsc-sustainability-fund\n\nFor more information visit http://newportmo
 mmy.com/events/lsc-junior-flower-power-join-us-live
DTSTART;TZID=America/Anguilla:20200427T113000
DTEND;TZID=America/Anguilla:20200427T121500
CATEGORIES:kids, event
LOCATION:Liberty Science Center 222 Jersey City Blvd, Jersey City, New
  Jersey 07305
WEBSITE:
URL:
CONTACT:
ORGANIZER:Liberty Science Center
ATTACH;FMTTYPE="image/jpeg":https://storage.ning.com/topology/rest/1.0
 /file/get/4512173269?profile=original
ATTENDEE;ROLE=REQ-PARTICIPANT;PARTSTAT=ACCEPTED;RSVP=TRUE;CN="alka dub
 ey":http://newportmommy.com/profile/alkadubey
END:VEVENT
END:VCALENDAR
