BEGIN:VCALENDAR
PRODID:NingEventWidget-v1
VERSION:2.0
METHOD:PUBLISH
BEGIN:VTIMEZONE
TZID:America/Anguilla
X-LIC-LOCATION:America/Anguilla
BEGIN:STANDARD
TZOFFSETFROM:-0400
TZOFFSETTO:-0400
TZNAME:AST
DTSTART:19700101T000000
END:STANDARD
END:VTIMEZONE
BEGIN:VEVENT
UID:6466865:Event:81901
DTSTAMP:20260421T130620Z
SUMMARY:LSC Junior Slimy Time - Join Us live !
DESCRIPTION:\r\nKids in grades Pre-K – 3 are invited to join us for 
 our next LSC Junior presentation, streamed LIVE on Liberty Science Cen
 ter’s Facebook page: Slimy Time!\r\nOn June 1 at 11:30 AM EDT, follo
 w along for a gooey, slimy experiment led by our LSC Junior presenters
 . Investigate chemical and physical changes by learning how to make va
 rious types of slime!\r\nWe stream amazing FREE digital programs like 
 this one on Facebook every week, Monday through Friday! Make sure to l
 ike Liberty Science Center’s Facebook page to keep up with all our p
 rograms!\r\nWe are grateful to the supporters and members who make thi
 s learning possible via a donation to the LSC Sustainability Fund: htt
 ps://bit.ly/2ZECkYH\n\nFor more information visit http://newportmommy.
 com/events/lsc-junior-slimy-time-join-us-live
DTSTART;TZID=America/Anguilla:20200601T113000
DTEND;TZID=America/Anguilla:20200601T121500
CATEGORIES:kids, event
LOCATION:Liberty Science Center 222 Jersey City Blvd, Jersey City, New
  Jersey 07305
WEBSITE:
URL:
CONTACT:
ORGANIZER:Liberty Science Center
ATTACH;FMTTYPE="image/jpeg":https://storage.ning.com/topology/rest/1.0
 /file/get/5477040498?profile=original
ATTENDEE;ROLE=REQ-PARTICIPANT;PARTSTAT=ACCEPTED;RSVP=TRUE;CN="alka dub
 ey":http://newportmommy.com/profile/alkadubey
END:VEVENT
END:VCALENDAR
