BEGIN:VCALENDAR
PRODID:NingEventWidget-v1
VERSION:2.0
METHOD:PUBLISH
BEGIN:VTIMEZONE
TZID:America/Anguilla
X-LIC-LOCATION:America/Anguilla
BEGIN:STANDARD
TZOFFSETFROM:-0400
TZOFFSETTO:-0400
TZNAME:AST
DTSTART:19700101T000000
END:STANDARD
END:VTIMEZONE
BEGIN:VEVENT
UID:6466865:Event:82102
DTSTAMP:20260421T132155Z
SUMMARY:LSC Junior Super Strong Shapes  -Join Us Live!
DESCRIPTION:Kids are invited to join us for our next LSC Junior presen
 tation, streamed LIVE on Monday, June 15 at 11:30 AM EDT on Liberty Sc
 ience Center’s Facebook page: Super Strong Shapes!\r\n\r\nIn this ac
 tivity, we'll use a variety of simple materials from home to build and
  test our favorite three dimensional shapes. Discover which shapes are
  not only strong but...super strong? \r\n\r\nViewers watching from hom
 e will want to have three sheets of paper, one book, and one roll of t
 ape (it doesn’t need to be a full roll – we’ll be using a couple
  strips of tape throughout the program).\r\n\r\nThis live stream is fr
 ee to all viewers! Be sure to like Liberty Science Center on Facebook 
 to keep up with our weekly live streams.\r\n\r\nWe are grateful to the
  supporters and members who make this learning possible via a donation
  to the LSC Sustainability Fund: https://lsc.org/support-us/lsc-sustai
 nability-fund\n\nFor more information visit http://newportmommy.com/ev
 ents/lsc-junior-super-strong-shapes-join-us-live
DTSTART;TZID=America/Anguilla:20200615T113000
DTEND;TZID=America/Anguilla:20200615T121500
CATEGORIES:kids, event
LOCATION:Liberty Science Center 222 Jersey City Blvd, Jersey City, New
  Jersey 07305
WEBSITE:
URL:
CONTACT:
ORGANIZER:Liberty Science Center
ATTACH;FMTTYPE="image/jpeg":
ATTENDEE;ROLE=REQ-PARTICIPANT;PARTSTAT=ACCEPTED;RSVP=TRUE;CN="alka dub
 ey":http://newportmommy.com/profile/alkadubey
END:VEVENT
END:VCALENDAR
