BEGIN:VCALENDAR
PRODID:NingEventWidget-v1
VERSION:2.0
METHOD:PUBLISH
BEGIN:VTIMEZONE
TZID:America/Anguilla
X-LIC-LOCATION:America/Anguilla
BEGIN:STANDARD
TZOFFSETFROM:-0400
TZOFFSETTO:-0400
TZNAME:AST
DTSTART:19700101T000000
END:STANDARD
END:VTIMEZONE
BEGIN:VEVENT
UID:6466865:Event:81764
DTSTAMP:20260421T132057Z
SUMMARY:LSC's Animal Update Join Us Live!
DESCRIPTION:\r\nLiberty Science Center may be temporarily closed, but 
 there are still 100+ animal species to take care of!\r\nJoin us Wednes
 day, June 3 at 11 AM EDT for LSC’s Animal Update, streamed LIVE on L
 iberty Science Center’s Facebook page!\r\nFollow along as we visit t
 he sea star, horseshoe crab, sea urchin, and the rest of the animal am
 bassadors that call LSC home.\r\nCome prepared with questions about yo
 ur favorite LSC animals – we’re happy to answer!\r\nLiberty Scienc
 e Center streams amazing FREE digital programs like this one on Facebo
 ok every week, Monday through Friday! Make sure to like our Facebook p
 age to keep up with all our programs.\r\nWe would like to give a speci
 al thank you to the members and supporters who continue to make this s
 cience learning possible through their support of the LSC Sustainabili
 ty Fund! https://bit.ly/2ZECkYH\n\nFor more information visit http://n
 ewportmommy.com/events/lsc-s-animal-update-join-us-live-1
DTSTART;TZID=America/Anguilla:20200603T110000
DTEND;TZID=America/Anguilla:20200603T114500
CATEGORIES:event, for, all
LOCATION:Liberty Science Center 222 Jersey City Blvd, Jersey City, New
  Jersey 07305
WEBSITE:
URL:
CONTACT:
ORGANIZER:Liberty Science Center
ATTACH;FMTTYPE="image/jpeg":https://storage.ning.com/topology/rest/1.0
 /file/get/5477332065?profile=original
ATTENDEE;ROLE=REQ-PARTICIPANT;PARTSTAT=ACCEPTED;RSVP=TRUE;CN="alka dub
 ey":http://newportmommy.com/profile/alkadubey
END:VEVENT
END:VCALENDAR
