BEGIN:VCALENDAR
PRODID:NingEventWidget-v1
VERSION:2.0
METHOD:PUBLISH
BEGIN:VTIMEZONE
TZID:America/Anguilla
X-LIC-LOCATION:America/Anguilla
BEGIN:STANDARD
TZOFFSETFROM:-0400
TZOFFSETTO:-0400
TZNAME:AST
DTSTART:19700101T000000
END:STANDARD
END:VTIMEZONE
BEGIN:VEVENT
UID:6466865:Event:81426
DTSTAMP:20260421T113751Z
SUMMARY:LSC'S Animal Update Join Us Live
DESCRIPTION:\r\nLiberty Science Center may be temporarily closed, but 
 there are still 100+ animal species to take care of!\r\nOn Wednesday, 
 April 29 at 11 AM EDT, head to Liberty Science Center's Facebook page 
 and join us for LSC's Animal Update, streamed live! Follow an LSC team
  member as we visit the the animal ambassadors that call LSC home.\r\n
 Come prepared with questions about your favorite LSC animals! We’re 
 happy to answer!\r\nWe would like to give a special thank you to the m
 embers and supporters who continue to make this science learning possi
 ble through their support of the LSC Sustainability Fund! https://lsc.
 org/support-us/lsc-sustainability-fund\n\nFor more information visit h
 ttp://newportmommy.com/events/lsc-s-animal-update-join-us-live
DTSTART;TZID=America/Anguilla:20200429T110000
DTEND;TZID=America/Anguilla:20200429T114500
CATEGORIES:event, for, all
LOCATION:Liberty Science Center 222 Jersey City Blvd, Jersey City, New
  Jersey 07305
WEBSITE:
URL:
CONTACT:
ORGANIZER:Liberty Science Center
ATTACH;FMTTYPE="image/jpeg":https://storage.ning.com/topology/rest/1.0
 /file/get/4512250271?profile=original
ATTENDEE;ROLE=REQ-PARTICIPANT;PARTSTAT=ACCEPTED;RSVP=TRUE;CN="alka dub
 ey":http://newportmommy.com/profile/alkadubey
END:VEVENT
END:VCALENDAR
