BEGIN:VCALENDAR
PRODID:NingEventWidget-v1
VERSION:2.0
METHOD:PUBLISH
BEGIN:VTIMEZONE
TZID:America/Anguilla
X-LIC-LOCATION:America/Anguilla
BEGIN:STANDARD
TZOFFSETFROM:-0400
TZOFFSETTO:-0400
TZNAME:AST
DTSTART:19700101T000000
END:STANDARD
END:VTIMEZONE
BEGIN:VEVENT
UID:6466865:Event:81376
DTSTAMP:20260421T130614Z
SUMMARY:LSC's Animal Update Join Us Live!
DESCRIPTION:\r\nLiberty Science Center may be temporarily closed, but 
 there are still 100+ animal species to take care of!\r\nOn Wednesday, 
 May 13 at 11:00 AM, head to Liberty Science Center’s Facebook page a
 nd join us for LSC’s Animal Update, streamed live! This week, we’r
 e taking a visit to Our Hudson Home to say hi to the fish and other aq
 uatic ambassadors that call the Science Center home.\r\nCome prepared 
 with questions about your favorite LSC animals! We’re happy to answe
 r!\r\nWe would like to give a special thank you to the members and sup
 porters who continue to make this science learning possible through th
 eir support of the LSC Sustainability Fund! https://lsc.org/support-us
 /lsc-sustainability-fund\n\nFor more information visit http://newportm
 ommy.com/events/lsc-s-animals-update-join-us-live
DTSTART;TZID=America/Anguilla:20200513T110000
DTEND;TZID=America/Anguilla:20200513T114500
CATEGORIES:kids, event
LOCATION:Liberty Science Center 222 Jersey City Blvd, Jersey City, New
  Jersey 07305
WEBSITE:
URL:
CONTACT:
ORGANIZER:Liberty Science Center
ATTACH;FMTTYPE="image/jpeg":https://storage.ning.com/topology/rest/1.0
 /file/get/4917450682?profile=original
ATTENDEE;ROLE=REQ-PARTICIPANT;PARTSTAT=ACCEPTED;RSVP=TRUE;CN="alka dub
 ey":http://newportmommy.com/profile/alkadubey
END:VEVENT
END:VCALENDAR
