BEGIN:VCALENDAR
PRODID:NingEventWidget-v1
VERSION:2.0
METHOD:PUBLISH
BEGIN:VTIMEZONE
TZID:America/Anguilla
X-LIC-LOCATION:America/Anguilla
BEGIN:STANDARD
TZOFFSETFROM:-0400
TZOFFSETTO:-0400
TZNAME:AST
DTSTART:19700101T000000
END:STANDARD
END:VTIMEZONE
BEGIN:VEVENT
UID:6466865:Event:79605
DTSTAMP:20260420T161124Z
SUMMARY:Metro NY: 6th Annual 5K for the Kids
DESCRIPTION:\n\nFor more information visit http://newportmommy.com/eve
 nts/metro-ny-6th-annual-5k-for-the-kids
DTSTART;TZID=America/Anguilla:20191005T143000
DTEND;TZID=America/Anguilla:20191005T170000
CATEGORIES:kids, event
LOCATION:Liberty State Park 1 Audrey Zapp Dr, Jersey City, New Jersey 
 07305
WEBSITE:
URL:
CONTACT:
ORGANIZER:Peloton Foundation
ATTACH;FMTTYPE="image/jpeg":https://storage.ning.com/topology/rest/1.0
 /file/get/3631122545?profile=original
ATTENDEE;ROLE=REQ-PARTICIPANT;PARTSTAT=ACCEPTED;RSVP=TRUE;CN="alka dub
 ey":http://newportmommy.com/profile/alkadubey
END:VEVENT
END:VCALENDAR
