BEGIN:VCALENDAR
PRODID:NingEventWidget-v1
VERSION:2.0
METHOD:PUBLISH
BEGIN:VTIMEZONE
TZID:America/Anguilla
X-LIC-LOCATION:America/Anguilla
BEGIN:STANDARD
TZOFFSETFROM:-0400
TZOFFSETTO:-0400
TZNAME:AST
DTSTART:19700101T000000
END:STANDARD
END:VTIMEZONE
BEGIN:VEVENT
UID:6466865:Event:81768
DTSTAMP:20260421T132050Z
SUMMARY:Return to the Moon- Join Us Live !
DESCRIPTION:\r\nJoin us LIVE on Liberty Science Center’s Facebook pa
 ge for our next Planetarium Online live stream: Return to the Moon, Th
 ursday, June 4 at 1 PM EDT!\r\nLong after astronauts last visited the 
 Moon in 1972, plans are now afoot for them to return! In this LIVE pre
 sentation, follow along with our planetarium educator as we explore go
 als for a new mission to our nearest neighbor in space.\r\nFeel free t
 o ask any questions – we’re happy to answer!\r\nLiberty Science Ce
 nter is home to the Jennifer Chalsty Planetarium, the biggest planetar
 ium in America. Video for this presentation was created on an Evans & 
 Sutherland Digistar 6 system.\r\nWe stream amazing FREE digital progra
 ms like this one on Facebook every week, Monday through Friday! Make s
 ure to like our Facebook page to keep up with all our programs.\r\nWe 
 would like to give a special thank you to the members and supporters w
 ho continue to make this science learning possible through their suppo
 rt of the LSC Sustainability Fund! https://bit.ly/2ZECkYH\n\nFor more 
 information visit http://newportmommy.com/events/return-to-the-moon-jo
 in-us-live
DTSTART;TZID=America/Anguilla:20200604T130000
DTEND;TZID=America/Anguilla:20200604T140000
CATEGORIES:event, for, all
LOCATION:Liberty Science Center 222 Jersey City Blvd, Jersey City, New
  Jersey 07305
WEBSITE:
URL:
CONTACT:
ORGANIZER:Liberty Science Center
ATTACH;FMTTYPE="image/jpeg":https://storage.ning.com/topology/rest/1.0
 /file/get/5477395874?profile=original
ATTENDEE;ROLE=REQ-PARTICIPANT;PARTSTAT=ACCEPTED;RSVP=TRUE;CN="alka dub
 ey":http://newportmommy.com/profile/alkadubey
END:VEVENT
END:VCALENDAR
