BEGIN:VCALENDAR
PRODID:NingEventWidget-v1
VERSION:2.0
METHOD:PUBLISH
BEGIN:VTIMEZONE
TZID:America/Anguilla
X-LIC-LOCATION:America/Anguilla
BEGIN:STANDARD
TZOFFSETFROM:-0400
TZOFFSETTO:-0400
TZNAME:AST
DTSTART:19700101T000000
END:STANDARD
END:VTIMEZONE
BEGIN:VEVENT
UID:6466865:Event:81345
DTSTAMP:20260421T101346Z
SUMMARY:Risk Factors of Cardiovascular Disease – Join Us Live!
DESCRIPTION:\r\nExplore the medical profession with Liberty Science Ce
 nter, live on Facebook!\r\nOn Tuesday, April 14 at 1:00 pm EDT, join L
 SC Distance Learning Specialist Caroline Nowak, live on LSC's Facebook
  page, for a session on the risk factors associated with cardiovascula
 r disease. During the presentation, we’ll watch a short video showca
 sing procedures that alleviate the symptoms of the disease. After the 
 presentation, Caroline will stick around to answer viewer questions! D
 on’t miss it!\r\nLSC’s Live From Surgery program offers viewers a 
 unique opportunity to peer into an operating room and get a close-up l
 ook at the medical profession. Join us as we broadcast a Live From Sur
 gery program to Facebook for the second time!\r\nCheck out more of our
  digital, at-home content over on \"LSC in the House!\" https://lsc.or
 g/education/lsc-in-the-house\n\nFor more information visit http://newp
 ortmommy.com/events/risk-factors-of-cardiovascular-disease-join-us-liv
 e
DTSTART;TZID=America/Anguilla:20200414T130000
DTEND;TZID=America/Anguilla:20200414T133000
CATEGORIES:event, for, all
LOCATION:Liberty Science Center 222 Jersey City Blvd, Jersey City, New
  Jersey 07305
WEBSITE:
URL:
CONTACT:
ORGANIZER:Liberty Science Center
ATTACH;FMTTYPE="image/jpeg":https://storage.ning.com/topology/rest/1.0
 /file/get/4391169326?profile=original
ATTENDEE;ROLE=REQ-PARTICIPANT;PARTSTAT=ACCEPTED;RSVP=TRUE;CN="alka dub
 ey":http://newportmommy.com/profile/alkadubey
END:VEVENT
END:VCALENDAR
