BEGIN:VCALENDAR
PRODID:NingEventWidget-v1
VERSION:2.0
METHOD:PUBLISH
BEGIN:VTIMEZONE
TZID:America/Anguilla
X-LIC-LOCATION:America/Anguilla
BEGIN:STANDARD
TZOFFSETFROM:-0400
TZOFFSETTO:-0400
TZNAME:AST
DTSTART:19700101T000000
END:STANDARD
END:VTIMEZONE
BEGIN:VEVENT
UID:6466865:Event:81412
DTSTAMP:20260421T101428Z
SUMMARY:Science Trivia  for kids and families– Live on Facebook
DESCRIPTION:\r\nKids and families are invited to compete in Liberty Sc
 ience Center’s NEW weekly trivia games for younger competitors!\r\nJ
 oin your quizmaster LIVE on LSC's Facebook page and compete against pl
 ayers from across the region in a variety of science-related topics.\r
 \n“Science Trivia for Kids & Families” takes place Friday at 11:30
  AM EDT.\r\nAdults are also invited to participate in a general Scienc
 e Trivia Facebook game, taking place Thursday, April 16 at 7 PM EDT. L
 earn more here: https://facebook.com/events/209470593685680/\r\nCatch 
 up with more of our digital, at-home \"LSC in the House\" content whil
 e LSC is temporarily closed: https://lsc.org/education/lsc-in-the-hous
 e\n\nFor more information visit http://newportmommy.com/events/science
 -trivia-for-kids-and-families-live-on-facebook
DTSTART;TZID=America/Anguilla:20200417T113000
DTEND;TZID=America/Anguilla:20200417T123000
CATEGORIES:event, for, all
LOCATION:Liberty Science Center 222 Jersey City Blvd, Jersey City, New
  Jersey 07305
WEBSITE:
URL:
CONTACT:
ORGANIZER:Liberty Science Center
ATTACH;FMTTYPE="image/jpeg":https://storage.ning.com/topology/rest/1.0
 /file/get/4439077483?profile=original
ATTENDEE;ROLE=REQ-PARTICIPANT;PARTSTAT=ACCEPTED;RSVP=TRUE;CN="alka dub
 ey":http://newportmommy.com/profile/alkadubey
END:VEVENT
END:VCALENDAR
