BEGIN:VCALENDAR
PRODID:NingEventWidget-v1
VERSION:2.0
METHOD:PUBLISH
BEGIN:VTIMEZONE
TZID:America/Anguilla
X-LIC-LOCATION:America/Anguilla
BEGIN:STANDARD
TZOFFSETFROM:-0400
TZOFFSETTO:-0400
TZNAME:AST
DTSTART:19700101T000000
END:STANDARD
END:VTIMEZONE
BEGIN:VEVENT
UID:6466865:Event:81092
DTSTAMP:20260421T100411Z
SUMMARY:Science Trivia – Live on Facebook
DESCRIPTION:\r\nDo you consider yourself a science nerd? Is your brain
  filled with random knowledge about technology? Or...maybe you’re ju
 st someone who remembers random facts from high school biology class? 
 (Mitochondria is the powerhouse of the cell!)\r\nWhoever you are, you
 re invited to compete in Liberty Science Center’s NEW weekly trivi
 a games! Join your quizmaster LIVE on LSC's Facebook page and compete 
 against others from across the region in a variety of science-related 
 topics.\r\nJoin us for general science trivia on Thursday, April 16 at
  7 PM EDT, right here on our Facebook page!\r\nLSC’s younger fans ar
 e also invited to a “Science Trivia for Kids & Families,” taking p
 lace Fridays at 11:30 AM EDT. Learn more: https://facebook.com/events/
 2566914273521707/\r\nCatch up with more of our digital, at-home \"LSC 
 in the House\" content while LSC is temporarily closed: https://lsc.or
 g/education/lsc-in-the-house\n\nFor more information visit http://newp
 ortmommy.com/events/science-trivia-live-on-facebook
DTSTART;TZID=America/Anguilla:20200417T190000
DTEND;TZID=America/Anguilla:20200417T200000
CATEGORIES:event, for, all
LOCATION:Liberty Science Center 222 Jersey City Blvd, Jersey City, New
  Jersey 07305
WEBSITE:
URL:
CONTACT:
ORGANIZER:Liberty Science Center and LSC After Dark
ATTACH;FMTTYPE="image/jpeg":https://storage.ning.com/topology/rest/1.0
 /file/get/4439056486?profile=original
ATTENDEE;ROLE=REQ-PARTICIPANT;PARTSTAT=ACCEPTED;RSVP=TRUE;CN="alka dub
 ey":http://newportmommy.com/profile/alkadubey
END:VEVENT
END:VCALENDAR
