BEGIN:VCALENDAR
PRODID:NingEventWidget-v1
VERSION:2.0
METHOD:PUBLISH
BEGIN:VTIMEZONE
TZID:America/Anguilla
X-LIC-LOCATION:America/Anguilla
BEGIN:STANDARD
TZOFFSETFROM:-0400
TZOFFSETTO:-0400
TZNAME:AST
DTSTART:19700101T000000
END:STANDARD
END:VTIMEZONE
BEGIN:VEVENT
UID:6466865:Event:81861
DTSTAMP:20260421T135111Z
SUMMARY:Season Final of LSC's Animal  Update Join us Live
DESCRIPTION:\r\nLike any good TV show, LSC’s Animal Update is airing
  its final episode before taking a break for the summer! Join us Wedne
 sday, June 24 at 11 AM, on Liberty Science Center's Facebook page, for
  the season finale of LSC’s Animal Update!\r\nOver the last few mont
 hs, we’ve had a blast with you all as we’ve visited several of LSC
 ’s animals live from the Science Center, including the naked mole ra
 ts, cotton-top tamarin monkeys, green-winged macaw, tortoises, leaf-cu
 tter ants, degus, piranhas, and so many more.\r\nWhich animals will sh
 ow up for the season's final episode? Tune in this Wednesday at 11 AM,
  only on Liberty Science Center’s Facebook page, to find out!\r\nTha
 nk you to all who have donated and made this science learning possible
 ! Click here to support Liberty Science Center today: https://bit.ly/3
 0QXeEr\n\nFor more information visit http://newportmommy.com/events/se
 ason-final-of-lsc-s-animal-update-join-us-live
DTSTART;TZID=America/Anguilla:20200624T110000
DTEND;TZID=America/Anguilla:20200624T234500
CATEGORIES:kids, event
LOCATION:Liberty Science Center 222 Jersey City Blvd, Jersey City, New
  Jersey 07305
WEBSITE:
URL:
CONTACT:
ORGANIZER:Liberty Science Center
ATTACH;FMTTYPE="image/jpeg":https://storage.ning.com/topology/rest/1.0
 /file/get/6164584055?profile=original
ATTENDEE;ROLE=REQ-PARTICIPANT;PARTSTAT=ACCEPTED;RSVP=TRUE;CN="alka dub
 ey":http://newportmommy.com/profile/alkadubey
END:VEVENT
END:VCALENDAR
