BEGIN:VCALENDAR
PRODID:NingEventWidget-v1
VERSION:2.0
METHOD:PUBLISH
BEGIN:VTIMEZONE
TZID:America/Anguilla
X-LIC-LOCATION:America/Anguilla
BEGIN:STANDARD
TZOFFSETFROM:-0400
TZOFFSETTO:-0400
TZNAME:AST
DTSTART:19700101T000000
END:STANDARD
END:VTIMEZONE
BEGIN:VEVENT
UID:6466865:Event:81372
DTSTAMP:20260421T113730Z
SUMMARY:Sheep Heart Dissection - Join Us Live!
DESCRIPTION:\r\nPeek inside the operating room! Liberty Science Center
 's Live From Surgery program offers viewers a unique opportunity to wa
 tch real surgeries and envision a career in the medical field.\r\nJoin
  the Live From Surgery Team for a sheep heart dissection, streamed liv
 e on Liberty Science Center’s Facebook on Tuesday, May 12 at 1:00 PM
 . Sheep have a four-chambered heart, just like humans. By studying the
  sheep’s anatomy, you can learn how your own heart pumps blood throu
 gh your body!\r\nWe would like to give a special thank you to the memb
 ers and supporters who continue to make this science learning possible
  through their support of the LSC Sustainability Fund! https://lsc.org
 /support-us/lsc-sustainability-fund\n\nFor more information visit http
 ://newportmommy.com/events/sheep-heart-dissection-join-us-live
DTSTART;TZID=America/Anguilla:20200512T130000
DTEND;TZID=America/Anguilla:20200512T134500
CATEGORIES:event, for, all
LOCATION:Liberty Science Center 222 Jersey City Blvd, Jersey City, New
  Jersey 07305
WEBSITE:
URL:
CONTACT:
ORGANIZER:Liberty Science Center
ATTACH;FMTTYPE="image/jpeg":https://storage.ning.com/topology/rest/1.0
 /file/get/4917369874?profile=original
ATTENDEE;ROLE=REQ-PARTICIPANT;PARTSTAT=ACCEPTED;RSVP=TRUE;CN="alka dub
 ey":http://newportmommy.com/profile/alkadubey
END:VEVENT
END:VCALENDAR
