BEGIN:VCALENDAR
PRODID:NingEventWidget-v1
VERSION:2.0
METHOD:PUBLISH
BEGIN:VTIMEZONE
TZID:America/Anguilla
X-LIC-LOCATION:America/Anguilla
BEGIN:STANDARD
TZOFFSETFROM:-0400
TZOFFSETTO:-0400
TZNAME:AST
DTSTART:19700101T000000
END:STANDARD
END:VTIMEZONE
BEGIN:VEVENT
UID:6466865:Event:81856
DTSTAMP:20260421T132333Z
SUMMARY:Story Time with Mr. Kengo -Join Us Live
DESCRIPTION:Join us for our next LSC Junior activity for young learner
 s: Story Time with Mr. Kengo, streamed LIVE on Liberty Science Center'
 s Facebook page, Monday, June 8 at 11:30 AM!\r\nKids in Pre-K – grad
 e 2 are invited to follow along as Mr. Kengo reads aloud from the book
  “Water Dance” by Thomas Locker, followed by an exploration of the
  water cycle.\r\nViewers are encouraged to have a writing utensil and 
 piece of paper to keep track of the words that Mr. Kengo goes over dur
 ing the story reading!\r\nThis live stream is free to all viewers. Be 
 sure to follow Liberty Science Center’s Facebook page to keep up wit
 h our weekly live streams.\r\nWe are grateful to the supporters and me
 mbers who make this learning possible via a donation to the LSC Sustai
 nability Fund: https://lsc.org/support-us/lsc-sustainability-fund\n\nF
 or more information visit http://newportmommy.com/events/story-time-wi
 th-mr-kengo-join-us-live-1
DTSTART;TZID=America/Anguilla:20200608T113000
DTEND;TZID=America/Anguilla:20200608T121500
CATEGORIES:event, for, all
LOCATION:Liberty Science Center 222 Jersey City Blvd, Jersey City, New
  Jersey 07305
WEBSITE:
URL:
CONTACT:
ORGANIZER:Liberty Science Center
ATTACH;FMTTYPE="image/jpeg":https://storage.ning.com/topology/rest/1.0
 /file/get/5677628889?profile=original
ATTENDEE;ROLE=REQ-PARTICIPANT;PARTSTAT=ACCEPTED;RSVP=TRUE;CN="alka dub
 ey":http://newportmommy.com/profile/alkadubey
END:VEVENT
END:VCALENDAR
