BEGIN:VCALENDAR
PRODID:NingEventWidget-v1
VERSION:2.0
METHOD:PUBLISH
BEGIN:VTIMEZONE
TZID:America/Anguilla
X-LIC-LOCATION:America/Anguilla
BEGIN:STANDARD
TZOFFSETFROM:-0400
TZOFFSETTO:-0400
TZNAME:AST
DTSTART:19700101T000000
END:STANDARD
END:VTIMEZONE
BEGIN:VEVENT
UID:6466865:Event:90793
DTSTAMP:20260423T143507Z
SUMMARY:Storyland: A Trip Through Childhood Favorites
DESCRIPTION:Beloved children’s books come to life in Liberty Science
  Center’s new adventure for kids, Storyland: A Trip Through Childho
 od Favorites. The exhibition opens to LSC members on Oct. 8, and to ev
 eryone on Oct. 9.\r\nExplore literacy, imagination, and dramatic play 
 as the exhibition transforms seven beloved and award-winning picture b
 ooks into three-dimensional spaces and bilingual learning environments
  that highlight essential pre-reading skills.\r\nStoryland highlights
  the following books: The Tale of Peter Rabbit by Beatrix Potter; T
 he Snowy Day by Ezra Jack Keats; Where’s Spot? by Eric Hill; If 
 You Give a Mouse a Cookie by Laura Numeroff; Chicka Chicka Boom Boom
  by Bill Martin Jr. and John Archambault; Abuela by Arthur Dorros; 
 and Tuesday by David Wiesner.\n\nFor more information visit http://n
 ewportmommy.com/events/storyland-a-trip-through-childhood-favorites
DTSTART;TZID=America/Anguilla:20201009T000000
DTEND;TZID=America/Anguilla:20201009T235900
CATEGORIES:new, exhibition
LOCATION:3rd floor: Liberty Science Center
WEBSITE:https://lsc.org/explore/exhibitions/storyland-a-trip-through-c
 hildhood-favorites
URL:https://lsc.org/explore/exhibitions/storyland-a-trip-through-child
 hood-favorites
CONTACT:
ORGANIZER:Liberty Science Center
ATTACH;FMTTYPE="image/jpeg":https://storage.ning.com/topology/rest/1.0
 /file/get/8017219501?profile=original
ATTENDEE;ROLE=REQ-PARTICIPANT;PARTSTAT=ACCEPTED;RSVP=TRUE;CN=NewportMo
 mmy:http://newportmommy.com/profile/30lkddir5s295
END:VEVENT
END:VCALENDAR
