BEGIN:VCALENDAR
PRODID:NingEventWidget-v1
VERSION:2.0
METHOD:PUBLISH
BEGIN:VTIMEZONE
TZID:America/Anguilla
X-LIC-LOCATION:America/Anguilla
BEGIN:STANDARD
TZOFFSETFROM:-0400
TZOFFSETTO:-0400
TZNAME:AST
DTSTART:19700101T000000
END:STANDARD
END:VTIMEZONE
BEGIN:VEVENT
UID:6466865:Event:81615
DTSTAMP:20260421T113831Z
SUMMARY:The Super moon Show- Join Us Live
DESCRIPTION:\r\nJoin us LIVE for a very special edition of Liberty Sci
 ence Center’s Planetarium Online, streamed on LSC's Facebook page!\r
 \nOn Wednesday, May 6 at 5 PM EDT, be there for “The Supermoon Show!
 ” Join our live planetarium educator to learn why the moon, on this 
 evening, will be bigger and brighter than a regular full moon. Come pr
 epared with questions (we’re happy to answer!) and then head outside
  to see the supermoon yourself.\r\nLiberty Science Center is home to t
 he Jennifer Chalsty Planetarium, the biggest planetarium in America.\r
 \nWe would like to give a special thank you to the members and support
 ers who continue to make this science learning possible through their 
 support of the LSC Sustainability Fund! https://lsc.org/support-us/lsc
 -sustainability-fund\n\nFor more information visit http://newportmommy
 .com/events/the-super-moon-show-join-us-live
DTSTART;TZID=America/Anguilla:20200506T170000
DTEND;TZID=America/Anguilla:20200506T173000
CATEGORIES:kids, event
LOCATION:Liberty Science Center 222 Jersey City Blvd, Jersey City, New
  Jersey 07305
WEBSITE:
URL:
CONTACT:
ORGANIZER:Liberty Science Center
ATTACH;FMTTYPE="image/jpeg":https://storage.ning.com/topology/rest/1.0
 /file/get/4769854296?profile=original
ATTENDEE;ROLE=REQ-PARTICIPANT;PARTSTAT=ACCEPTED;RSVP=TRUE;CN="alka dub
 ey":http://newportmommy.com/profile/alkadubey
END:VEVENT
END:VCALENDAR
