BEGIN:VCALENDAR
PRODID:NingEventWidget-v1
VERSION:2.0
METHOD:PUBLISH
BEGIN:VTIMEZONE
TZID:America/Anguilla
X-LIC-LOCATION:America/Anguilla
BEGIN:STANDARD
TZOFFSETFROM:-0400
TZOFFSETTO:-0400
TZNAME:AST
DTSTART:19700101T000000
END:STANDARD
END:VTIMEZONE
BEGIN:VEVENT
UID:6466865:Event:81623
DTSTAMP:20260421T115927Z
SUMMARY:Tour of the June Sky- Join Us Live !
DESCRIPTION:Join us LIVE on Liberty Science Center’s Facebook page f
 or our next Planetarium Online live stream: Tour of the June Sky, Thur
 sday, May 28 at 1 PM EDT!\r\nJune has the shortest nights but some of 
 the best weather for stargazing. Follow along with our LIVE planetariu
 m presenter as we explore the constellations and deep sky objects of t
 he summer sky, including the Summer Triangle, Ring Nebula, Whirlpool G
 alaxy, and beyond.\r\nFeel free to ask any questions – we’re happy
  to answer!\r\nLiberty Science Center is home to the Jennifer Chalsty 
 Planetarium, the biggest planetarium in America. Video for this presen
 tation was created on an Evans & Sutherland Digistar 6 system.\r\nWe s
 tream amazing FREE digital programs like this one on Facebook every we
 ek, Monday through Friday! Make sure to like our Facebook page to keep
  up with all our programs.\r\nWe would like to give a special thank yo
 u to the members and supporters who continue to make this science lear
 ning possible through their support of the LSC Sustainability Fund! ht
 tps://bit.ly/2ZECkYH\n\nFor more information visit http://newportmommy
 .com/events/tour-of-the-june-sky-join-us-live
DTSTART;TZID=America/Anguilla:20200528T130000
DTEND;TZID=America/Anguilla:20200528T140000
CATEGORIES:kids, event
LOCATION:Liberty Science Center 222 Jersey City Blvd, Jersey City, New
  Jersey 07305
WEBSITE:
URL:
CONTACT:
ORGANIZER:Liberty Science Center
ATTACH;FMTTYPE="image/jpeg":https://storage.ning.com/topology/rest/1.0
 /file/get/5393280085?profile=original
ATTENDEE;ROLE=REQ-PARTICIPANT;PARTSTAT=ACCEPTED;RSVP=TRUE;CN="alka dub
 ey":http://newportmommy.com/profile/alkadubey
END:VEVENT
END:VCALENDAR
