BEGIN:VCALENDAR
PRODID:NingEventWidget-v1
VERSION:2.0
METHOD:PUBLISH
BEGIN:VTIMEZONE
TZID:America/Anguilla
X-LIC-LOCATION:America/Anguilla
BEGIN:STANDARD
TZOFFSETFROM:-0400
TZOFFSETTO:-0400
TZNAME:AST
DTSTART:19700101T000000
END:STANDARD
END:VTIMEZONE
BEGIN:VEVENT
UID:6466865:Event:81407
DTSTAMP:20260421T104605Z
SUMMARY:Tour of the Morning Planets - Join us Live!
DESCRIPTION:\r\nSoar through the solar system with Liberty Science Cen
 ter!\r\nThis week is a great time to see three bright planets—Jupite
 r, Mars, and Saturn—in the morning sky. On Thursday, April 2 at 1:00
  pm, join one of LSC’s planetarium presenters live on our Facebook p
 age. Learn where to find the planets in the sky, and a bit about what 
 makes each planet unique.\r\nAlong the way, you’ll visit the two lar
 gest moons in the solar system, Ganymede and Titan, visit volcanoes an
 d a canyon on Mars, and fly through the rings of Saturn.\r\nVideo for 
 this presentation was created on an Evans & Sutherland Digistar 6 syst
 em.\r\nCheck out our “LSC in the House” page to experience more of
  Liberty Science Center’s digital, at-home content while we’re tem
 porarily closed: https://lsc.org/education/lsc-in-the-house\n\nFor mor
 e information visit http://newportmommy.com/events/tour-of-the-morning
 -planets-join-us-live
DTSTART;TZID=America/Anguilla:20200402T130000
DTEND;TZID=America/Anguilla:20200402T133000
CATEGORIES:event, for, all
LOCATION:Liberty Science Center 222 Jersey City Blvd, Jersey City, New
  Jersey 07305
WEBSITE:
URL:
CONTACT:
ORGANIZER:Liberty Science Center
ATTACH;FMTTYPE="image/jpeg":https://storage.ning.com/topology/rest/1.0
 /file/get/4303497601?profile=original
ATTENDEE;ROLE=REQ-PARTICIPANT;PARTSTAT=ACCEPTED;RSVP=TRUE;CN="alka dub
 ey":http://newportmommy.com/profile/alkadubey
END:VEVENT
END:VCALENDAR
