BEGIN:VCALENDAR
PRODID:NingEventWidget-v1
VERSION:2.0
METHOD:PUBLISH
BEGIN:VTIMEZONE
TZID:America/Anguilla
X-LIC-LOCATION:America/Anguilla
BEGIN:STANDARD
TZOFFSETFROM:-0400
TZOFFSETTO:-0400
TZNAME:AST
DTSTART:19700101T000000
END:STANDARD
END:VTIMEZONE
BEGIN:VEVENT
UID:6466865:Event:81611
DTSTAMP:20260421T113550Z
SUMMARY:Virtual Science Trivia Every Thursday Night
DESCRIPTION:\r\nYouâ€™re invited to compete in Liberty Science Centerâ
 €™s NEW weekly trivia games!\r\nJoin your quizmaster LIVE on LSC's Fac
 ebook page every Thursday at 6 PM EDT. Compete against others from acr
 oss the region in a variety of science-related topics, including space
 , animals, health, tech, science-centric pop culture, and beyond!\r\nO
 ne of this week's special rounds is: Science in Disney Movies! Join us
  for the fun on Thursday, April 30 at 6 PM!\r\nLSCâ€™s younger fans ar
 e also invited to a â€śScience Trivia for Kids & Families,â€ť taking p
 lace on Facebook every Friday at 11:30 AM EDT.\r\nWe would like to giv
 e a special thank you to the members and supporters who continue to ma
 ke this science learning possible through their support of the LSC Sus
 tainability Fund! https://lsc.org/support-us/lsc-sustainability-fund\n
 \nFor more information visit http://newportmommy.com/events/virtual-sc
 ience-trivia-every-thursday-night-3
DTSTART;TZID=America/Anguilla:20200528T180000
DTEND;TZID=America/Anguilla:20200528T184500
CATEGORIES:kids, event
LOCATION:Liberty Science Center 222 Jersey City Blvd, Jersey City, New
  Jersey 07305
WEBSITE:
URL:
CONTACT:
ORGANIZER:Liberty Science Center
ATTACH;FMTTYPE="image/jpeg":https://storage.ning.com/topology/rest/1.0
 /file/get/4543701964?profile=original
ATTENDEE;ROLE=REQ-PARTICIPANT;PARTSTAT=ACCEPTED;RSVP=TRUE;CN="alka dub
 ey":http://newportmommy.com/profile/alkadubey
END:VEVENT
END:VCALENDAR
