BEGIN:VCALENDAR
PRODID:NingEventWidget-v1
VERSION:2.0
METHOD:PUBLISH
BEGIN:VTIMEZONE
TZID:America/Anguilla
X-LIC-LOCATION:America/Anguilla
BEGIN:STANDARD
TZOFFSETFROM:-0400
TZOFFSETTO:-0400
TZNAME:AST
DTSTART:19700101T000000
END:STANDARD
END:VTIMEZONE
BEGIN:VEVENT
UID:6466865:Event:81361
DTSTAMP:20260421T132457Z
SUMMARY:Virtual Science Trivia for kids & families - Friday Mornings!
DESCRIPTION:\r\nKids and families are invited to compete in Liberty Sc
 ience Center’s NEW weekly trivia games for younger competitors!\r\nJ
 oin your quizmaster LIVE on LSC's Facebook page every Friday at 11:30 
 AM EDT. Compete against others from across the region in a variety of 
 science-related topics, including space, animals, health, tech, scienc
 e-centric pop culture, and beyond!\r\nOlder competitors are also invit
 ed to a general science trivia game for adults, taking place on Facebo
 ok every Thursday at 6:00 PM EDT.\r\nWe would like to give a special t
 hank you to the members and supporters who continue to make this scien
 ce learning possible through their support of the LSC Sustainability F
 und! https://lsc.org/support-us/lsc-sustainability-fund\n\nFor more in
 formation visit http://newportmommy.com/events/virtual-science-trivia-
 for-kids-families-friday-mornings-1
DTSTART;TZID=America/Anguilla:20200508T113000
DTEND;TZID=America/Anguilla:20200508T121500
CATEGORIES:kids, event
LOCATION:Liberty Science Center 222 Jersey City Blvd, Jersey City, New
  Jersey 07305
WEBSITE:
URL:
CONTACT:
ORGANIZER:Liberty Science Center
ATTACH;FMTTYPE="image/jpeg":https://storage.ning.com/topology/rest/1.0
 /file/get/4543809820?profile=original
ATTENDEE;ROLE=REQ-PARTICIPANT;PARTSTAT=ACCEPTED;RSVP=TRUE;CN="alka dub
 ey":http://newportmommy.com/profile/alkadubey
END:VEVENT
END:VCALENDAR
