BEGIN:VCALENDAR
PRODID:NingEventWidget-v1
VERSION:2.0
METHOD:PUBLISH
BEGIN:VTIMEZONE
TZID:America/Anguilla
X-LIC-LOCATION:America/Anguilla
BEGIN:STANDARD
TZOFFSETFROM:-0400
TZOFFSETTO:-0400
TZNAME:AST
DTSTART:19700101T000000
END:STANDARD
END:VTIMEZONE
BEGIN:VEVENT
UID:6466865:Event:81514
DTSTAMP:20260421T114011Z
SUMMARY:Virtual Science Trivia for kids & families - Friday Mornings!
DESCRIPTION:A \r\nKids and families are invited to compete in Liberty
  Science Center’s NEW weekly trivia games for younger competitors!\r
 \nJoin your quizmaster LIVE on LSC's Facebook page every Friday at 11:
 30 AM EDT. Compete against others from across the region in a variety 
 of science-related topics, including space, animals, health, tech, sci
 ence-centric pop culture, and beyond!\r\nOlder competitors are also in
 vited to a general science trivia game for adults, taking place on Fac
 ebook every Thursday at 6:00 PM EDT.\r\nWe would like to give a specia
 l thank you to the members and supporters who continue to make this sc
 ience learning possible through their support of the LSC Sustainabilit
 y Fund! https://lsc.org/support-us/lsc-sustainability-fund\n\nFor more
  information visit http://newportmommy.com/events/virtual-science-triv
 ia-for-kids-families-friday-mornings
DTSTART;TZID=America/Anguilla:20200501T113000
DTEND;TZID=America/Anguilla:20200501T121500
CATEGORIES:kids, event
LOCATION:Liberty Science Center 222 Jersey City Blvd, Jersey City, New
  Jersey 07305
WEBSITE:
URL:
CONTACT:
ORGANIZER:Liberty Science Center
ATTACH;FMTTYPE="image/jpeg":https://storage.ning.com/topology/rest/1.0
 /file/get/4543809820?profile=original
ATTENDEE;ROLE=REQ-PARTICIPANT;PARTSTAT=ACCEPTED;RSVP=TRUE;CN="alka dub
 ey":http://newportmommy.com/profile/alkadubey
END:VEVENT
END:VCALENDAR
